BEGIN:VCALENDAR
VERSION:2.0
PRODID:-//eventon.com NONSGML v1.0//EN
CALSCALE:GREGORIAN
METHOD:PUBLISH
BEGIN:VEVENT
UID:69eb7c08011c2
DTSTAMP:20260424T161952
DTSTART:20240323T083000Z
DTEND:20240323T150000Z
TZID:Europe/Belgrade
LOCATION:Nova Gorica 
SUMMARY:Tek čez Škabrijel 2024
DESCRIPTION: Tek čez Škabrijel 2024\nhttps://gorski-teki.si/events/tek-cez-skabrijel-2024/
URL:https://gorski-teki.si/events/tek-cez-skabrijel-2024/
END:VEVENT
END:VCALENDAR